BEGIN:VCALENDAR
VERSION:2.0
PRODID:-//AEneagrama - ECPv6.15.20//NONSGML v1.0//EN
CALSCALE:GREGORIAN
METHOD:PUBLISH
X-WR-CALNAME:AEneagrama
X-ORIGINAL-URL:https://aeneagrama.es
X-WR-CALDESC:Eventos para AEneagrama
REFRESH-INTERVAL;VALUE=DURATION:PT1H
X-Robots-Tag:noindex
X-PUBLISHED-TTL:PT1H
BEGIN:VTIMEZONE
TZID:UTC
BEGIN:STANDARD
TZOFFSETFROM:+0000
TZOFFSETTO:+0000
TZNAME:UTC
DTSTART:20240101T000000
END:STANDARD
END:VTIMEZONE
BEGIN:VEVENT
DTSTART;TZID=UTC:20250909T190000
DTEND;TZID=UTC:20250909T210000
DTSTAMP:20260421T190300
CREATED:20250925T183736Z
LAST-MODIFIED:20250925T183835Z
UID:4227-1757444400-1757451600@aeneagrama.es
SUMMARY:"Hablando de mi libro: El Eneagrama de las Pasiones con Lluís Serra Llansana
DESCRIPTION:Retomamos nuestros eventos +Q9 y tenemos el gusto de invitaros el próximo martes 9 de septiembre al evento: +Q9 «Hablando de mi libro: El Eneagrama de las Pasiones» con LLUÍS SERRA LLANSANA\n\n\n Cuándo: mates 9 de septiembre a las 19.00 (hora Madrid)\n Dónde: Plataforma online Zoom.\n A quién va dirigido: A socios de AEneagrama y demás público interesado.\n Formulario de inscripción: EVENTO +Q9 – Hablando de mi libro: El Eneagrama de las Pasiones con Lluís Serra Llansana\n\n\nUna vez realizada tu solicitud de inscripción\, recibirás un correo electrónico confirmando tu plaza e indicando el link y la contraseña para poder acceder al evento\, el día y hora señalados.\nSi no lo recibes antes del día del evento\, revisa\, por favor\, tu carpeta de spam.\n\n\n¡Esperamos que puedas asistir!
URL:https://aeneagrama.es/eventos/hablando-de-mi-libro-el-eneagrama-de-las-pasiones-con-lluis-serra-llansana/
CATEGORIES:+Q9
ATTACH;FMTTYPE=image/png:https://aeneagrama.es/wp-content/uploads/2025/09/HORIZONTAL-LLUIS-SERRA.png
END:VEVENT
END:VCALENDAR