BEGIN:VCALENDAR
VERSION:2.0
PRODID:-//AEneagrama - ECPv6.15.20//NONSGML v1.0//EN
CALSCALE:GREGORIAN
METHOD:PUBLISH
X-WR-CALNAME:AEneagrama
X-ORIGINAL-URL:https://aeneagrama.es
X-WR-CALDESC:Eventos para AEneagrama
REFRESH-INTERVAL;VALUE=DURATION:PT1H
X-Robots-Tag:noindex
X-PUBLISHED-TTL:PT1H
BEGIN:VTIMEZONE
TZID:Europe/Madrid
BEGIN:DAYLIGHT
TZOFFSETFROM:+0100
TZOFFSETTO:+0200
TZNAME:CEST
DTSTART:20240331T010000
END:DAYLIGHT
BEGIN:STANDARD
TZOFFSETFROM:+0200
TZOFFSETTO:+0100
TZNAME:CET
DTSTART:20241027T010000
END:STANDARD
BEGIN:DAYLIGHT
TZOFFSETFROM:+0100
TZOFFSETTO:+0200
TZNAME:CEST
DTSTART:20250330T010000
END:DAYLIGHT
BEGIN:STANDARD
TZOFFSETFROM:+0200
TZOFFSETTO:+0100
TZNAME:CET
DTSTART:20251026T010000
END:STANDARD
BEGIN:DAYLIGHT
TZOFFSETFROM:+0100
TZOFFSETTO:+0200
TZNAME:CEST
DTSTART:20260329T010000
END:DAYLIGHT
BEGIN:STANDARD
TZOFFSETFROM:+0200
TZOFFSETTO:+0100
TZNAME:CET
DTSTART:20261025T010000
END:STANDARD
END:VTIMEZONE
BEGIN:VEVENT
DTSTART;TZID=Europe/Madrid:20251216T190000
DTEND;TZID=Europe/Madrid:20251216T210000
DTSTAMP:20260421T143905
CREATED:20260115T170135Z
LAST-MODIFIED:20260115T170135Z
UID:4487-1765911600-1765918800@aeneagrama.es
SUMMARY:"Los subtipos en el mundo animal: el Eneagrama a través de los ojos de un ranger" con Lucille Greeff
DESCRIPTION:Retomamos nuestros eventos +Q9 y tenemos el gusto de invitaros el próximo martes 16 de diciembre al evento: +Q9 «Los subtipos en el mundo animal: el Eneagrama a través de los ojos de un ranger» con LUCILLE GREEFF\n\n\n Cuándo: martes 16 de diciembre a las 19.00 (hora Madrid)\n Dónde: Plataforma online Zoom.\n A quién va dirigido: A socios de AEneagrama y demás público interesado.\n\n\n¡Esperamos que puedas asistir!\n\n\nSi no eres socio\, para participar rellena el formulario: \nInscribirme al evento \n(Al hacerlo recibirás un correo automático con los datos de acceso) \n*RECUERDA que si eres socio no necesitas registrarte en ninguno de nuestros eventos\, recibirás el enlace en el email de recordatorio.
URL:https://aeneagrama.es/eventos/lucille-greeff/
CATEGORIES:+Q9
ATTACH;FMTTYPE=image/png:https://aeneagrama.es/wp-content/uploads/2026/01/HORIZONTAL-1.png
END:VEVENT
END:VCALENDAR